BEGIN:VCALENDAR
VERSION:2.0
PRODID:-//hacksw/handcal//NONSGML v1.0//EN
BEGIN:VEVENT
SUMMARY:Montapeine Route
UID:24ac040e-f0e5-4f1d-8237-46e0255bec51
DTSTART:20260425T060000Z
DTEND:20260425T220000Z
LOCATION:Localisation   
CATEGORIES:Sportif
STATUS:
URL;VALUE=URI:https://www.aslvarreddesvtt.com/evenements/2026/04/25/montapeine-route-2443410
END:VEVENT
END:VCALENDAR
