BEGIN:VCALENDAR
VERSION:2.0
PRODID:-//hacksw/handcal//NONSGML v1.0//EN
BEGIN:VEVENT
SUMMARY:Montapeine route
UID:b143d05f-6f94-4da8-b98d-1b382836d7ee
DTSTART:20260426T060000Z
DTEND:20260426T220000Z
LOCATION:Localisation   
CATEGORIES:Sportif
STATUS:
URL;VALUE=URI:https://www.aslvarreddesvtt.com/evenements/2026/04/26/montapeine-route-2443411
END:VEVENT
END:VCALENDAR
